BEGIN:VCALENDAR
VERSION:2.0
PRODID:-//HDAOR - ECPv6.15.20//NONSGML v1.0//EN
CALSCALE:GREGORIAN
METHOD:PUBLISH
X-WR-CALNAME:HDAOR
X-ORIGINAL-URL:https://vvar.com
X-WR-CALDESC:Events for HDAOR
REFRESH-INTERVAL;VALUE=DURATION:PT1H
X-Robots-Tag:noindex
X-PUBLISHED-TTL:PT1H
BEGIN:VTIMEZONE
TZID:America/Los_Angeles
BEGIN:DAYLIGHT
TZOFFSETFROM:-0800
TZOFFSETTO:-0700
TZNAME:PDT
DTSTART:20230312T100000
END:DAYLIGHT
BEGIN:STANDARD
TZOFFSETFROM:-0700
TZOFFSETTO:-0800
TZNAME:PST
DTSTART:20231105T090000
END:STANDARD
BEGIN:DAYLIGHT
TZOFFSETFROM:-0800
TZOFFSETTO:-0700
TZNAME:PDT
DTSTART:20240310T100000
END:DAYLIGHT
BEGIN:STANDARD
TZOFFSETFROM:-0700
TZOFFSETTO:-0800
TZNAME:PST
DTSTART:20241103T090000
END:STANDARD
BEGIN:DAYLIGHT
TZOFFSETFROM:-0800
TZOFFSETTO:-0700
TZNAME:PDT
DTSTART:20250309T100000
END:DAYLIGHT
BEGIN:STANDARD
TZOFFSETFROM:-0700
TZOFFSETTO:-0800
TZNAME:PST
DTSTART:20251102T090000
END:STANDARD
END:VTIMEZONE
BEGIN:VEVENT
DTSTART;TZID=America/Los_Angeles:20240912T090000
DTEND;TZID=America/Los_Angeles:20240912T103000
DTSTAMP:20260421T142139
CREATED:20240823T164929Z
LAST-MODIFIED:20240823T164929Z
UID:6955-1726131600-1726137000@vvar.com
SUMMARY:Legal Update w/Attorney Tom Jacobson
DESCRIPTION:Register now for the Legal Update with Attorney Tom Jacobson\, In-Person at the the High Desert Association of REALTORS Event Room. \nSeptember 12\, 2024 \n9:00am
URL:https://vvar.com/event/legal-update-w-attorney-tom-jacobson/
LOCATION:Hdaor Office\, 11890 Hesperia Road\, Hesperia\, CA\, 92345\, United States
END:VEVENT
END:VCALENDAR