BEGIN:VCALENDAR
VERSION:2.0
PRODID:-//HDAOR - ECPv6.15.20//NONSGML v1.0//EN
CALSCALE:GREGORIAN
METHOD:PUBLISH
X-ORIGINAL-URL:https://vvar.com
X-WR-CALDESC:Events for HDAOR
REFRESH-INTERVAL;VALUE=DURATION:PT1H
X-Robots-Tag:noindex
X-PUBLISHED-TTL:PT1H
BEGIN:VTIMEZONE
TZID:America/Los_Angeles
BEGIN:DAYLIGHT
TZOFFSETFROM:-0800
TZOFFSETTO:-0700
TZNAME:PDT
DTSTART:20240310T100000
END:DAYLIGHT
BEGIN:STANDARD
TZOFFSETFROM:-0700
TZOFFSETTO:-0800
TZNAME:PST
DTSTART:20241103T090000
END:STANDARD
BEGIN:DAYLIGHT
TZOFFSETFROM:-0800
TZOFFSETTO:-0700
TZNAME:PDT
DTSTART:20250309T100000
END:DAYLIGHT
BEGIN:STANDARD
TZOFFSETFROM:-0700
TZOFFSETTO:-0800
TZNAME:PST
DTSTART:20251102T090000
END:STANDARD
BEGIN:DAYLIGHT
TZOFFSETFROM:-0800
TZOFFSETTO:-0700
TZNAME:PDT
DTSTART:20260308T100000
END:DAYLIGHT
BEGIN:STANDARD
TZOFFSETFROM:-0700
TZOFFSETTO:-0800
TZNAME:PST
DTSTART:20261101T090000
END:STANDARD
END:VTIMEZONE
BEGIN:VEVENT
DTSTART;TZID=America/Los_Angeles:20250207T090000
DTEND;TZID=America/Los_Angeles:20250207T100000
DTSTAMP:20260421T041949
CREATED:20250115T201318Z
LAST-MODIFIED:20250115T201328Z
UID:7859-1738918800-1738922400@vvar.com
SUMMARY:Virtual Training on Matrix: Client Collaboration for High Desert Association of REALTORS®
DESCRIPTION:Virtual Training on Matrix: Client Collaboration for High Desert Association of REALTORS®\n			\n				Click Here to Register!
URL:https://vvar.com/event/virtual-training-on-matrix-client-collaboration-for-high-desert-association-of-realtors/
LOCATION:Virtual\, Virtual
END:VEVENT
END:VCALENDAR