BEGIN:VCALENDAR
VERSION:2.0
PRODID:-//HDAOR - ECPv6.15.20//NONSGML v1.0//EN
CALSCALE:GREGORIAN
METHOD:PUBLISH
X-ORIGINAL-URL:https://vvar.com
X-WR-CALDESC:Events for HDAOR
REFRESH-INTERVAL;VALUE=DURATION:PT1H
X-Robots-Tag:noindex
X-PUBLISHED-TTL:PT1H
BEGIN:VTIMEZONE
TZID:America/Los_Angeles
BEGIN:DAYLIGHT
TZOFFSETFROM:-0800
TZOFFSETTO:-0700
TZNAME:PDT
DTSTART:20240310T100000
END:DAYLIGHT
BEGIN:STANDARD
TZOFFSETFROM:-0700
TZOFFSETTO:-0800
TZNAME:PST
DTSTART:20241103T090000
END:STANDARD
BEGIN:DAYLIGHT
TZOFFSETFROM:-0800
TZOFFSETTO:-0700
TZNAME:PDT
DTSTART:20250309T100000
END:DAYLIGHT
BEGIN:STANDARD
TZOFFSETFROM:-0700
TZOFFSETTO:-0800
TZNAME:PST
DTSTART:20251102T090000
END:STANDARD
BEGIN:DAYLIGHT
TZOFFSETFROM:-0800
TZOFFSETTO:-0700
TZNAME:PDT
DTSTART:20260308T100000
END:DAYLIGHT
BEGIN:STANDARD
TZOFFSETFROM:-0700
TZOFFSETTO:-0800
TZNAME:PST
DTSTART:20261101T090000
END:STANDARD
END:VTIMEZONE
BEGIN:VEVENT
DTSTART;TZID=America/Los_Angeles:20250903T093000
DTEND;TZID=America/Los_Angeles:20250903T103000
DTSTAMP:20260421T110027
CREATED:20250106T212751Z
LAST-MODIFIED:20250106T212757Z
UID:7778-1756891800-1756895400@vvar.com
SUMMARY:Special Affairs Committee Meeting
DESCRIPTION:When: September 3\, 2025 \nWhere: HDAR Board Room \nTime: 9:30-10:30am
URL:https://vvar.com/event/special-affairs-committee-meeting-12/
LOCATION:Hdaor Office\, 11890 Hesperia Road\, Hesperia\, CA\, 92345\, United States
END:VEVENT
BEGIN:VEVENT
DTSTART;TZID=America/Los_Angeles:20250903T110000
DTEND;TZID=America/Los_Angeles:20250903T120000
DTSTAMP:20260421T110027
CREATED:20250106T212457Z
LAST-MODIFIED:20250107T182811Z
UID:7774-1756897200-1756900800@vvar.com
SUMMARY:Government Relations Committee Meeting
DESCRIPTION:When: September 3\,2025 \nWhere: Via Zoom \nTime: 11am-12pm \n 
URL:https://vvar.com/event/government-relations-committee-meeting-7/
LOCATION:Virtual\, Virtual
END:VEVENT
END:VCALENDAR