BEGIN:VCALENDAR
VERSION:2.0
PRODID:-//HDAOR - ECPv6.15.20//NONSGML v1.0//EN
CALSCALE:GREGORIAN
METHOD:PUBLISH
X-ORIGINAL-URL:https://vvar.com
X-WR-CALDESC:Events for HDAOR
REFRESH-INTERVAL;VALUE=DURATION:PT1H
X-Robots-Tag:noindex
X-PUBLISHED-TTL:PT1H
BEGIN:VTIMEZONE
TZID:America/Los_Angeles
BEGIN:DAYLIGHT
TZOFFSETFROM:-0800
TZOFFSETTO:-0700
TZNAME:PDT
DTSTART:20210314T100000
END:DAYLIGHT
BEGIN:STANDARD
TZOFFSETFROM:-0700
TZOFFSETTO:-0800
TZNAME:PST
DTSTART:20211107T090000
END:STANDARD
BEGIN:DAYLIGHT
TZOFFSETFROM:-0800
TZOFFSETTO:-0700
TZNAME:PDT
DTSTART:20220313T100000
END:DAYLIGHT
BEGIN:STANDARD
TZOFFSETFROM:-0700
TZOFFSETTO:-0800
TZNAME:PST
DTSTART:20221106T090000
END:STANDARD
BEGIN:DAYLIGHT
TZOFFSETFROM:-0800
TZOFFSETTO:-0700
TZNAME:PDT
DTSTART:20230312T100000
END:DAYLIGHT
BEGIN:STANDARD
TZOFFSETFROM:-0700
TZOFFSETTO:-0800
TZNAME:PST
DTSTART:20231105T090000
END:STANDARD
END:VTIMEZONE
BEGIN:VEVENT
DTSTART;TZID=America/Los_Angeles:20221206T080000
DTEND;TZID=America/Los_Angeles:20221206T090000
DTSTAMP:20260423T033759
CREATED:20220510T163158Z
LAST-MODIFIED:20220901T184602Z
UID:1907-1670313600-1670317200@vvar.com
SUMMARY:Finance Committee Virtual
DESCRIPTION:
URL:https://vvar.com/event/finance-committee-virtual-2022-12-06/
LOCATION:Virtual\, Virtual
END:VEVENT
BEGIN:VEVENT
DTSTART;TZID=America/Los_Angeles:20221208T080000
DTEND;TZID=America/Los_Angeles:20221208T090000
DTSTAMP:20260423T033759
CREATED:20220510T163408Z
LAST-MODIFIED:20220511T202658Z
UID:1893-1670486400-1670490000@vvar.com
SUMMARY:Board of Directors Virtual
DESCRIPTION:
URL:https://vvar.com/event/board-of-directors-in-person-2022-12-08/
LOCATION:Hdaor Office\, 11890 Hesperia Road\, Hesperia\, CA\, 92345\, United States
END:VEVENT
BEGIN:VEVENT
DTSTART;TZID=America/Los_Angeles:20221223T080000
DTEND;TZID=America/Los_Angeles:20221223T170000
DTSTAMP:20260423T033759
CREATED:20220511T211548Z
LAST-MODIFIED:20220511T212539Z
UID:2031-1671782400-1671814800@vvar.com
SUMMARY:Association Closed in Observance of Christmas
DESCRIPTION:
URL:https://vvar.com/event/association-closed-in-observance-of-christmas/
END:VEVENT
BEGIN:VEVENT
DTSTART;TZID=America/Los_Angeles:20221227T080000
DTEND;TZID=America/Los_Angeles:20221227T170000
DTSTAMP:20260423T033759
CREATED:20220511T211548Z
LAST-MODIFIED:20220511T211548Z
UID:2038-1672128000-1672160400@vvar.com
SUMMARY:Association Closed in Observance of Christmas
DESCRIPTION:
URL:https://vvar.com/event/association-closed-in-observance-of-christmas-2022-12-27/
END:VEVENT
END:VCALENDAR