BEGIN:VCALENDAR
VERSION:2.0
PRODID:-//HDAOR - ECPv6.15.20//NONSGML v1.0//EN
CALSCALE:GREGORIAN
METHOD:PUBLISH
X-ORIGINAL-URL:https://vvar.com
X-WR-CALDESC:Events for HDAOR
REFRESH-INTERVAL;VALUE=DURATION:PT1H
X-Robots-Tag:noindex
X-PUBLISHED-TTL:PT1H
BEGIN:VTIMEZONE
TZID:America/Los_Angeles
BEGIN:DAYLIGHT
TZOFFSETFROM:-0800
TZOFFSETTO:-0700
TZNAME:PDT
DTSTART:20220313T100000
END:DAYLIGHT
BEGIN:STANDARD
TZOFFSETFROM:-0700
TZOFFSETTO:-0800
TZNAME:PST
DTSTART:20221106T090000
END:STANDARD
BEGIN:DAYLIGHT
TZOFFSETFROM:-0800
TZOFFSETTO:-0700
TZNAME:PDT
DTSTART:20230312T100000
END:DAYLIGHT
BEGIN:STANDARD
TZOFFSETFROM:-0700
TZOFFSETTO:-0800
TZNAME:PST
DTSTART:20231105T090000
END:STANDARD
BEGIN:DAYLIGHT
TZOFFSETFROM:-0800
TZOFFSETTO:-0700
TZNAME:PDT
DTSTART:20240310T100000
END:DAYLIGHT
BEGIN:STANDARD
TZOFFSETFROM:-0700
TZOFFSETTO:-0800
TZNAME:PST
DTSTART:20241103T090000
END:STANDARD
END:VTIMEZONE
BEGIN:VEVENT
DTSTART;TZID=America/Los_Angeles:20230203T093000
DTEND;TZID=America/Los_Angeles:20230203T123000
DTSTAMP:20260421T083119
CREATED:20230112T174304Z
LAST-MODIFIED:20230112T180515Z
UID:3680-1675416600-1675427400@vvar.com
SUMMARY:License Renewal Crash Course (For Sales & Broker licensees)
DESCRIPTION:Feb 03 \nLicense Renewal Crash Course (February 3\, 2023)\nThis is class is an optional review of course materials and provides the QUICKEST and EASIEST way to renew ANY real estate license. \n\n\nBy Revei\, DRE Sponsor 2473\n\nWhen and where\n\n\n\n\n\n\n\n\n\n\n\n\nDate and time\n\nFri\, February 3\, 2023\, 9:30 AM – 12:30 PM PST \n\n\n\n\n\n\n\n\nLocation\n\nOnline \n\n\n\n\n\n\n\n\n\nRefund Policy\n\nContact the organizer to request a refund.\nEventbrite’s fee is nonrefundable.\n\n\n\nAbout this event\n\n\n3 hours\nMobile eTicket\n\n\n\n\nYour time is worth big $$$. This class will save you time by covering the important info from the 450 pages of reading material we are required to provide. By attending the class you will learn everything you need to know to pass the online finals exams. All students guaranteed to pass the exams through revei.com or your money back! Good for Salesperson and Broker license renewals.\n  \nLegal Fine print: \nREAL ESTATE VIDEO EDUCATIONAL INSTITUTE\, DRE SPONSOR No. 2473 \n1407 N. Batavia St. #220\, Orange\, CA 92867 \nPhone #: 800-582-7979 – Fax #: 714-660-5706 \nGENERAL INFORMATION PAGE FOR OUR CORRESPONDENCE COURSES \nREFUND POLICY:Cancellation – A student may terminate enrollment by mailing such notice by CERTIFIED MAIL. The effective date of cancellation is the date postmarked. Any refunds due will be made by the school within 30 days. Materials – Initial correspondence course materials shall be sent to the student within one (1) working day following receipt of the student’s enrollment or picked up at time of enrollment from association. An enrollee may cancel enrollment within five working days following receipt of course materials and receive a refund of all monies paid\, including registration and material fees\, provided all materials are returned in an unused condition. Shipping costs may be deducted from the refund. \nCOURSE CONTENT / TIME LIMITS: The home study course consists of spending a minimum of 3 hours per 3 credit course and 27 hours of other education reading and studying the course material\, and passing a final exam. The final examinations can be started a minimum of 3 days from the date the student has access to the course materials. The maximum time students have to complete a course is one year from the date of registration. If students fail the final examinations\, they must re-enroll in the program before they can take the exams again. Students must wait a minimum of another 6 days studying the course materials after they re-enroll before they can start the final examinations. The re-enrollment fee will be $15.00. \nINCREMENTAL ASSESSMENTS:All courses contain incremental assessments designed to properly measure a participant’s mastery of the course content. Remediation to the student will be provided along with the students personal ID for the final examination before the final examination can be taken. \nFINAL EXAMINATION: The final exams are open-book and consist of 15 multiple choice questions for Agency\, Ethics\, Fair Housing Risk Management\, Trust Funds\, and Broker Mgmt & Supervision; and 40 multiple choice questions for both Legal & Marketing – Part 1 & Part 2. Students are allowed one minute per question to complete each final exam and need to score a minimum of 70% to pass. Students may not take more than 15 credit hours of testing within a 24 hour period. Therefore\, to complete all 45 hours of testing\, the student must spend at least 3 different days to complete the exams. Final exams are to be completed online through the Revei web site. Students taking the final exams on-line will be issued a unique username and password. Internet final exams cannot be printed or downloaded; and the exams will automatically time-out at one minute per question. Under no circumstances shall the final exams be furnished directly to the students. \nCOURSE COMPLETION CERTIFICATES/RECORDS:Course completion certificates can be printed online once all course exams are completed. Records of course completion certificates will be maintained indefinitely to allow students to receive a duplicate certificate if needed. \nPROBLEMS/COMPLAINTS: Persons seeking to resolve problems or complaints should contact Revei at the address or telephone number above. \nEVALUATION: DRE has a course and instructor evaluation available on their web site. www.dre.ca.gov \nDRE DISCLAIMER STATEMENTThis course is approved for continuing education credit by the California Department of Real Estate. However\, this approval does not constitute an endorsement of the views or opinions which are expressed by the course sponsor\, instructor\, authors or lecturers. \n\n\n\n\n\n			\n				Click Here to Register!!!
URL:https://vvar.com/event/license-renewal-crash-course-for-sales-broker-licensees/
LOCATION:Virtual\, Virtual
END:VEVENT
BEGIN:VEVENT
DTSTART;TZID=America/Los_Angeles:20230215T100000
DTEND;TZID=America/Los_Angeles:20230215T130000
DTSTAMP:20260421T083119
CREATED:20230112T193316Z
LAST-MODIFIED:20230112T193425Z
UID:3687-1676455200-1676466000@vvar.com
SUMMARY:February 15\, 2023 – The RPA with 2023 updates
DESCRIPTION:THE NEW California Residential Purchase Agreement (2023 Edition)\nThe residential purchase agreement was brand new in 2021 and it keeps getting updated every week. Here is the latest info you NEED! \n\n\nBy Revei\, DRE Sponsor 2473\n\n\nWhen and where\n\n\n\n\n\n\n\n\n\n\n\n\nDate and time\n\nWed\, February 15\, 2023\, 10:00 AM – 1:00 PM PST \n\n\n\n\n\n\n\n\nLocation\n\nOnline \n\n\n\n\n\n\n\n\n\nRefund Policy\n\nContact the organizer to request a refund.\nEventbrite’s fee is nonrefundable.\n\n\n\nAbout this event\n\n\n3 hours\nMobile eTicket\n\n\n\n\n• The BRAND NEW 16 page form with latest updates \n• What makes a valid\, binding contract?! \n• Step by step through each paragraph – what fun…! \n• Mediate\, Arbitrate or Litigate! Oh MY! \n• How are Deposits handled… NOW! – 10145 of the B & P Code \n• Who can I talk to get more answers? \n  \nInstructor: Joel Carlson\, DREI\, CREC is the owner/broker of MJC Realty in Newport Beach\, Instructor and author for CAR and Designated Instructor of the National Association. \nJoel@JoelCarlson.com \n  \n\n\n\n\n\n			\n				Click Here to Register!!!
URL:https://vvar.com/event/february-15-2023-the-rpa-with-2023-updates/
LOCATION:Virtual\, Virtual
END:VEVENT
BEGIN:VEVENT
DTSTART;TZID=America/Los_Angeles:20230216T100000
DTEND;TZID=America/Los_Angeles:20230216T113000
DTSTAMP:20260421T083119
CREATED:20230201T181303Z
LAST-MODIFIED:20230201T181315Z
UID:3849-1676541600-1676547000@vvar.com
SUMMARY:THE ULTIMATE LEAD GENERATION MACHINE
DESCRIPTION:PRESENTED BY:\nPhil Hollander\nAmazon #1 Best-Selling Author \n* The Referral & Repeat Marketing Book\n* ‘Choice Points’ When You Have to Decide\nWhich Way to Go\n* Million Dollar Agents\, How Top Realtors\nReally Create High Income\, Wealth and\nIndependence\nBook giveaways offered during class! \nGENERATE REPEAT & REFERRAL\nBUSINESS LIKE NEVER BEFORE\nApproximately 67% of real estate leads come from referrals\nand repeat business\, and for many real estate\nprofessionals\, repeat and referral business is their\nbread and butter!\nJoin this 1-hour session where Elm Street Academy\ncoaches will provide you with the steps on how to\nimplement a system that is proven to generate more\nbusiness. This system will teach you to accelerate your\nresults by generating high-quality\, low-competition\nleads that you can close! \n \n			\n				Click Here to REGISTER!
URL:https://vvar.com/event/the-ultimate-lead-generation-machine/
LOCATION:Virtual\, Virtual
END:VEVENT
BEGIN:VEVENT
DTSTART;TZID=America/Los_Angeles:20230217T093000
DTEND;TZID=America/Los_Angeles:20230217T123000
DTSTAMP:20260421T083119
CREATED:20230112T193809Z
LAST-MODIFIED:20230112T193819Z
UID:3697-1676626200-1676637000@vvar.com
SUMMARY:February 17\, 2023 - License Renewal Crash Course (For Sales & Broker licensees)
DESCRIPTION:License Renewal Crash Course (February 17\, 2023)\nThis is class is an optional review of course materials and provides the QUICKEST and EASIEST way to renew ANY real estate license. \n\n\nBy Revei\, DRE Sponsor 2473\n\n\nWhen and where\n\n\n\n\n\n\n\n\n\n\n\n\nDate and time\n\nFri\, February 17\, 2023\, 9:30 AM – 12:30 PM PST \n\n\n\n\n\n\n\n\nLocation\n\nOnline \n\n\n\n\n\n\n\n\n\nRefund Policy\n\nContact the organizer to request a refund.\nEventbrite’s fee is nonrefundable.\n\n\n\nAbout this event\n\n\n3 hours\nMobile eTicket\n\n\n\n\nYour time is worth big $$$. This class will save you time by covering the important info from the 450 pages of reading material we are required to provide. By attending the class you will learn everything you need to know to pass the online finals exams. All students guaranteed to pass the exams through revei.com or your money back! Good for Salesperson and Broker license renewals.\n  \nLegal Fine print: \nREAL ESTATE VIDEO EDUCATIONAL INSTITUTE\, DRE SPONSOR No. 2473 \n1407 N. Batavia St. #220\, Orange\, CA 92867 \nPhone #: 800-582-7979 – Fax #: 714-660-5706 \nGENERAL INFORMATION PAGE FOR OUR CORRESPONDENCE COURSES \nREFUND POLICY:Cancellation – A student may terminate enrollment by mailing such notice by CERTIFIED MAIL. The effective date of cancellation is the date postmarked. Any refunds due will be made by the school within 30 days. Materials – Initial correspondence course materials shall be sent to the student within one (1) working day following receipt of the student’s enrollment or picked up at time of enrollment from association. An enrollee may cancel enrollment within five working days following receipt of course materials and receive a refund of all monies paid\, including registration and material fees\, provided all materials are returned in an unused condition. Shipping costs may be deducted from the refund. \nCOURSE CONTENT / TIME LIMITS: The home study course consists of spending a minimum of 3 hours per 3 credit course and 27 hours of other education reading and studying the course material\, and passing a final exam. The final examinations can be started a minimum of 3 days from the date the student has access to the course materials. The maximum time students have to complete a course is one year from the date of registration. If students fail the final examinations\, they must re-enroll in the program before they can take the exams again. Students must wait a minimum of another 6 days studying the course materials after they re-enroll before they can start the final examinations. The re-enrollment fee will be $15.00. \nINCREMENTAL ASSESSMENTS:All courses contain incremental assessments designed to properly measure a participant’s mastery of the course content. Remediation to the student will be provided along with the students personal ID for the final examination before the final examination can be taken. \nFINAL EXAMINATION: The final exams are open-book and consist of 15 multiple choice questions for Agency\, Ethics\, Fair Housing Risk Management\, Trust Funds\, and Broker Mgmt & Supervision; and 40 multiple choice questions for both Legal & Marketing – Part 1 & Part 2. Students are allowed one minute per question to complete each final exam and need to score a minimum of 70% to pass. Students may not take more than 15 credit hours of testing within a 24 hour period. Therefore\, to complete all 45 hours of testing\, the student must spend at least 3 different days to complete the exams. Final exams are to be completed online through the Revei web site. Students taking the final exams on-line will be issued a unique username and password. Internet final exams cannot be printed or downloaded; and the exams will automatically time-out at one minute per question. Under no circumstances shall the final exams be furnished directly to the students. \nCOURSE COMPLETION CERTIFICATES/RECORDS:Course completion certificates can be printed online once all course exams are completed. Records of course completion certificates will be maintained indefinitely to allow students to receive a duplicate certificate if needed. \nPROBLEMS/COMPLAINTS: Persons seeking to resolve problems or complaints should contact Revei at the address or telephone number above. \nEVALUATION: DRE has a course and instructor evaluation available on their web site. www.dre.ca.gov \nDRE DISCLAIMER STATEMENTThis course is approved for continuing education credit by the California Department of Real Estate. However\, this approval does not constitute an endorsement of the views or opinions which are expressed by the course sponsor\, instructor\, authors or lecturers. \n\n\n\n\n\n			\n				Click Here to Register!
URL:https://vvar.com/event/february-17-2023-license-renewal-crash-course-for-sales-broker-licensees/
LOCATION:Virtual\, Virtual
END:VEVENT
BEGIN:VEVENT
DTSTART;TZID=America/Los_Angeles:20230220T080000
DTEND;TZID=America/Los_Angeles:20230220T170000
DTSTAMP:20260421T083119
CREATED:20230215T213923Z
LAST-MODIFIED:20230215T220747Z
UID:3937-1676880000-1676912400@vvar.com
SUMMARY:Association Closed in Observance of Presidents Day.
DESCRIPTION:
URL:https://vvar.com/event/association-closed-in-observance-of-presidents-day/
LOCATION:Hdaor Office\, 11890 Hesperia Road\, Hesperia\, CA\, 92345\, United States
END:VEVENT
BEGIN:VEVENT
DTSTART;TZID=America/Los_Angeles:20230223T100000
DTEND;TZID=America/Los_Angeles:20230223T110000
DTSTAMP:20260421T083119
CREATED:20230118T210133Z
LAST-MODIFIED:20230118T210138Z
UID:3767-1677146400-1677150000@vvar.com
SUMMARY:General Membership Meeting*Virtual Only*
DESCRIPTION:Join us for this months General Membership Meeting. Our speaker is Gov Hutchinson C.A.R. Attorney. \nPlease take note\, this months GM is on Thursday. \n 
URL:https://vvar.com/event/general-membership-meetingvirtual-only/
LOCATION:Virtual\, Virtual
END:VEVENT
BEGIN:VEVENT
DTSTART;TZID=America/Los_Angeles:20230228T100000
DTEND;TZID=America/Los_Angeles:20230228T130000
DTSTAMP:20260421T083119
CREATED:20230112T194121Z
LAST-MODIFIED:20230112T195335Z
UID:3703-1677578400-1677589200@vvar.com
SUMMARY:Get More Residential Listings
DESCRIPTION:Residential Listings – How to get and market them more effectively!\nListings are the name of the game! Don’t make the common listing mistakes. \n\n\nBy Revei\, DRE Sponsor 2473\n\n\nWhen and where\n\n\n\n\n\n\n\n\n\n\n\n\nDate and time\n\nTue\, February 28\, 2023\, 10:00 AM – 1:00 PM PST \n\n\n\n\n\n\n\n\nLocation\n\nOnline \n\n\n\n\n\n\n\n\n\nRefund Policy\n\nContact the organizer to request a refund.\nEventbrite’s fee is nonrefundable.\n\n\n\nAbout this event\n\n\n3 hours\nMobile eTicket\n\n\n\n\n· The 14 page (really 5 pages) – Agency and stuff \n· What are the 3 types of Listings \n· Step by step through each paragraph – what fun…! \n· Mediate\, Arbitrate or Litigate! Oh MY! \n· How are Deposits handled… NOW! – 10145 of the B & P Code \n· Who can I talk to get more answers? \n  \nInstructor: Joel Carlson\, DREI\, CREC is the owner/broker of MJC Realty in Newport Beach\, Instructor and author for CAR and Designated Instructor of the National Association. \nJoel@JoelCarlson.com \n\n\n\n\n\n			\n				Click Here to Register!
URL:https://vvar.com/event/get-more-residential-listings/
LOCATION:Virtual\, Virtual
END:VEVENT
END:VCALENDAR