BEGIN:VCALENDAR
VERSION:2.0
PRODID:-//HDAOR - ECPv6.15.20//NONSGML v1.0//EN
CALSCALE:GREGORIAN
METHOD:PUBLISH
X-ORIGINAL-URL:https://vvar.com
X-WR-CALDESC:Events for HDAOR
REFRESH-INTERVAL;VALUE=DURATION:PT1H
X-Robots-Tag:noindex
X-PUBLISHED-TTL:PT1H
BEGIN:VTIMEZONE
TZID:America/Los_Angeles
BEGIN:DAYLIGHT
TZOFFSETFROM:-0800
TZOFFSETTO:-0700
TZNAME:PDT
DTSTART:20220313T100000
END:DAYLIGHT
BEGIN:STANDARD
TZOFFSETFROM:-0700
TZOFFSETTO:-0800
TZNAME:PST
DTSTART:20221106T090000
END:STANDARD
BEGIN:DAYLIGHT
TZOFFSETFROM:-0800
TZOFFSETTO:-0700
TZNAME:PDT
DTSTART:20230312T100000
END:DAYLIGHT
BEGIN:STANDARD
TZOFFSETFROM:-0700
TZOFFSETTO:-0800
TZNAME:PST
DTSTART:20231105T090000
END:STANDARD
BEGIN:DAYLIGHT
TZOFFSETFROM:-0800
TZOFFSETTO:-0700
TZNAME:PDT
DTSTART:20240310T100000
END:DAYLIGHT
BEGIN:STANDARD
TZOFFSETFROM:-0700
TZOFFSETTO:-0800
TZNAME:PST
DTSTART:20241103T090000
END:STANDARD
END:VTIMEZONE
BEGIN:VEVENT
DTSTART;TZID=America/Los_Angeles:20230302T100000
DTEND;TZID=America/Los_Angeles:20230302T110000
DTSTAMP:20260423T052332
CREATED:20230215T220400Z
LAST-MODIFIED:20230215T220419Z
UID:3945-1677751200-1677754800@vvar.com
SUMMARY:The NCREA: CRE Product Types & Investors
DESCRIPTION:The NCREA: CRE Product Types & Investors \n3/2/2023 \n10am \nhttps://events.thencrea.com/home-march-2-2023–sellers-course-8993-2567-3971-6992 \n 
URL:https://vvar.com/event/the-ncrea-cre-product-types-investors/
LOCATION:Virtual\, Virtual
ORGANIZER;CN="Kristy":MAILTO:kristy@hdaor.com
END:VEVENT
BEGIN:VEVENT
DTSTART;TZID=America/Los_Angeles:20230302T100000
DTEND;TZID=America/Los_Angeles:20230302T110000
DTSTAMP:20260423T052332
CREATED:20230224T182835Z
LAST-MODIFIED:20230224T182846Z
UID:4003-1677751200-1677754800@vvar.com
SUMMARY:THE BLUEPRINT TO GENERATE MORE SELLER LEADS
DESCRIPTION:THE BLUEPRINT TO GENERATE MORE SELLER LEADS \nSECURE MORE LISTINGS WITH THESE BULLETPROOF MARKETING STRATEGIES \nLISTINGS\, LISTINGS\, LISTINGS\nSome agents make it look like a breeze to secure those oh so coveted listings\, while others struggle to catch the attention of sellers. Ever wonder why?\nHow you market your business\, how you use the tools available to connect with your database\, and how you market your unique value in a way that matters is how you can secure more seller leads.\nIn this one-hour session\, the Elm Street Academy educational team will share the blueprint on how you can use your online presence to market yourself as an expert and market leader so that when it’s time for a seller to list their home\, you are top of mind! \nWALK AWAY WITH\nACTIONABLE KNOWLEDGE:»\nHow to build brand awareness on your social channels»\nStrategies to present yourself as an industry and community expert»\nHow to create an online ecosystem that drives results»\nWhat you should (and should not) do to standout to sellers»\nFind opportunities to present your unique value proposition»\nAnd much more REGISTRATION IS FREE! SPACE IS LIMITED!  Thursday\, March 2nd at 10:00am PST \n  \n \n			\n				Click here to REGISTER!
URL:https://vvar.com/event/the-blueprint-to-generate-more-seller-leads/
LOCATION:Virtual\, Virtual
ORGANIZER;CN="Kristy":MAILTO:kristy@hdaor.com
END:VEVENT
BEGIN:VEVENT
DTSTART;TZID=America/Los_Angeles:20230303T093000
DTEND;TZID=America/Los_Angeles:20230303T123000
DTSTAMP:20260423T052332
CREATED:20230112T195927Z
LAST-MODIFIED:20230112T200034Z
UID:3711-1677835800-1677846600@vvar.com
SUMMARY:March 3\, 2023 - License Renewal Crash Course (For Sales & Broker licensees)
DESCRIPTION:This is class is an optional review of course materials and provides the QUICKEST and EASIEST way to renew ANY real estate license. \n\n\nBy Revei\, DRE Sponsor 2473\n\n\nWhen and where\n\n\n\n\n\n\n\n\n\n\n\n\nDate and time\n\nFri\, March 3\, 2023\, 9:30 AM – 12:30 PM PST \n\n\n\n\n\n\n\n\nLocation\n\nOnline \n\n\n\n\n\n\n\n\n\nRefund Policy\n\nContact the organizer to request a refund.\nEventbrite’s fee is nonrefundable.\n\n\n\nAbout this event\n\n\n3 hours\nMobile eTicket\n\n\n\n\nYour time is worth big $$$. This class will save you time by covering the important info from the 450 pages of reading material we are required to provide. By attending the class you will learn everything you need to know to pass the online finals exams. All students guaranteed to pass the exams through revei.com or your money back! Good for Salesperson and Broker license renewals.\n  \nLegal Fine print: \nREAL ESTATE VIDEO EDUCATIONAL INSTITUTE\, DRE SPONSOR No. 2473 \n1407 N. Batavia St. #220\, Orange\, CA 92867 \nPhone #: 800-582-7979 – Fax #: 714-660-5706 \nGENERAL INFORMATION PAGE FOR OUR CORRESPONDENCE COURSES \nREFUND POLICY: Cancellation – A student may terminate enrollment by mailing such notice by CERTIFIED MAIL. The effective date of cancellation is the date postmarked. Any refunds due will be made by the school within 30 days. Materials – Initial correspondence course materials shall be sent to the student within one (1) working day following receipt of the student’s enrollment or picked up at time of enrollment from association. An enrollee may cancel enrollment within five working days following receipt of course materials and receive a refund of all monies paid\, including registration and material fees\, provided all materials are returned in an unused condition. Shipping costs may be deducted from the refund. \nCOURSE CONTENT / TIME LIMITS: The home study course consists of spending a minimum of 3 hours per 3 credit course and 27 hours of other education reading and studying the course material\, and passing a final exam. The final examinations can be started a minimum of 3 days from the date the student has access to the course materials. The maximum time students have to complete a course is one year from the date of registration. If students fail the final examinations\, they must re-enroll in the program before they can take the exams again. Students must wait a minimum of another 6 days studying the course materials after they re-enroll before they can start the final examinations. The re-enrollment fee will be $15.00. \nINCREMENTAL ASSESSMENTS: All courses contain incremental assessments designed to properly measure a participant’s mastery of the course content. Remediation to the student will be provided along with the students personal ID for the final examination before the final examination can be taken. \nFINAL EXAMINATION: The final exams are open-book and consist of 15 multiple choice questions for Agency\, Ethics\, Fair Housing Risk Management\, Trust Funds\, and Broker Mgmt & Supervision; and 40 multiple choice questions for both Legal & Marketing – Part 1 & Part 2. Students are allowed one minute per question to complete each final exam and need to score a minimum of 70% to pass. Students may not take more than 15 credit hours of testing within a 24 hour period. Therefore\, to complete all 45 hours of testing\, the student must spend at least 3 different days to complete the exams. Final exams are to be completed online through the Revei web site. Students taking the final exams on-line will be issued a unique username and password. Internet final exams cannot be printed or downloaded; and the exams will automatically time-out at one minute per question. Under no circumstances shall the final exams be furnished directly to the students. \nCOURSE COMPLETION CERTIFICATES/RECORDS: Course completion certificates can be printed online once all course exams are completed. Records of course completion certificates will be maintained indefinitely to allow students to receive a duplicate certificate if needed. \nPROBLEMS/COMPLAINTS: Persons seeking to resolve problems or complaints should contact Revei at the address or telephone number above. \n\n\n\n\n\n			\n				Click Here to Register!
URL:https://vvar.com/event/march-3-2023-license-renewal-crash-course-for-sales-broker-licensees/
LOCATION:Virtual\, Virtual
END:VEVENT
BEGIN:VEVENT
DTSTART;TZID=America/Los_Angeles:20230309T103000
DTEND;TZID=America/Los_Angeles:20230309T120000
DTSTAMP:20260423T052332
CREATED:20230215T221331Z
LAST-MODIFIED:20230215T221544Z
UID:3949-1678357800-1678363200@vvar.com
SUMMARY:Rev UP Your Listings in Reverse (The Reverse Mortgage Educators)
DESCRIPTION:Rev UP Your Listings in Reverse (The Reverse Mortgage Educators) \n3/9/2023 \n10:30am – 12pm \nLunch/In-Peson at HDAOR \nOr Virtual livestream 6pm-7pm \nhttps://thereverseeducators.com/hdaor/03-09-23
URL:https://vvar.com/event/rev-up-your-listings-in-reverse-the-reverse-mortgage-educators/
LOCATION:Hdaor Office\, 11890 Hesperia Road\, Hesperia\, CA\, 92345\, United States
ORGANIZER;CN="Kristy":MAILTO:kristy@hdaor.com
END:VEVENT
BEGIN:VEVENT
DTSTART;TZID=America/Los_Angeles:20230315T100000
DTEND;TZID=America/Los_Angeles:20230315T130000
DTSTAMP:20260423T052332
CREATED:20230112T200444Z
LAST-MODIFIED:20230112T200453Z
UID:3716-1678874400-1678885200@vvar.com
SUMMARY:The RPA with 2023 updates
DESCRIPTION:THE NEW California Residential Purchase Agreement (2023 Edition)\nThe residential purchase agreement was brand new in 2021 and it keeps getting updated every week. Here is the latest info you NEED! \n\n\n\n\nWhen and where\n\n\n\n\n\n\n\n\n\n\n\n\nDate and time\n\nWed\, March 15\, 2023\, 10:00 AM – 1:00 PM PDT \n\n\n\n\n\n\n\n\nLocation\n\nOnline \n\n\n\n\n\n\n\n\n\nRefund Policy\n\nContact the organizer to request a refund.\nEventbrite’s fee is nonrefundable.\n\n\n\nAbout this event\n\n\n3 hours\nMobile eTicket\n\n\n\n\n• The BRAND NEW 16 page form with latest updates \n• What makes a valid\, binding contract?! \n• Step by step through each paragraph – what fun…! \n• Mediate\, Arbitrate or Litigate! Oh MY! \n• How are Deposits handled… NOW! – 10145 of the B & P Code \n• Who can I talk to get more answers? \n  \nInstructor: Joel Carlson\, DREI\, CREC is the owner/broker of MJC Realty in Newport Beach\, Instructor and author for CAR and Designated Instructor of the National Association. \nJoel@JoelCarlson.com \n\n\n\n\n\n			\n				Click Here to Register!
URL:https://vvar.com/event/the-rpa-with-2023-updates/
LOCATION:Virtual\, Virtual
END:VEVENT
BEGIN:VEVENT
DTSTART;TZID=America/Los_Angeles:20230317T093000
DTEND;TZID=America/Los_Angeles:20230317T123000
DTSTAMP:20260423T052332
CREATED:20230112T200832Z
LAST-MODIFIED:20230112T200959Z
UID:3723-1679045400-1679056200@vvar.com
SUMMARY:License Renewal Crash Course (For Sales & Broker licensees)
DESCRIPTION:License Renewal Crash Course (March 17\, 2023)\nThis is class is an optional review of course materials and provides the QUICKEST and EASIEST way to renew ANY real estate license. \n\n\nBy Revei\, DRE Sponsor 2473\n\n\nWhen and where\n\n\n\n\n\n\n\n\n\n\n\n\nDate and time\n\nFri\, March 17\, 2023\, 9:30 AM – 12:30 PM PDT \n\n\n\n\n\nLocation\n\nOnline \n\n\n\n\n\n\n\n\n\nRefund Policy\n\nContact the organizer to request a refund.\nEventbrite’s fee is nonrefundable.\n\n\n\nAbout this event\n\n\n3 hours\nMobile eTicket\n\n\n\n\nYour time is worth big $$$. This class will save you time by covering the important info from the 450 pages of reading material we are required to provide. By attending the class you will learn everything you need to know to pass the online finals exams. All students guaranteed to pass the exams through revei.com or your money back! Good for Salesperson and Broker license renewals.\n  \nLegal Fine print: \nREAL ESTATE VIDEO EDUCATIONAL INSTITUTE\, DRE SPONSOR No. 2473 \n1407 N. Batavia St. #220\, Orange\, CA 92867 \nPhone #: 800-582-7979 – Fax #: 714-660-5706 \nGENERAL INFORMATION PAGE FOR OUR CORRESPONDENCE COURSES \nREFUND POLICY:Cancellation – A student may terminate enrollment by mailing such notice by CERTIFIED MAIL. The effective date of cancellation is the date postmarked. Any refunds due will be made by the school within 30 days. Materials – Initial correspondence course materials shall be sent to the student within one (1) working day following receipt of the student’s enrollment or picked up at time of enrollment from association. An enrollee may cancel enrollment within five working days following receipt of course materials and receive a refund of all monies paid\, including registration and material fees\, provided all materials are returned in an unused condition. Shipping costs may be deducted from the refund. \nCOURSE CONTENT / TIME LIMITS: The home study course consists of spending a minimum of 3 hours per 3 credit course and 27 hours of other education reading and studying the course material\, and passing a final exam. The final examinations can be started a minimum of 3 days from the date the student has access to the course materials. The maximum time students have to complete a course is one year from the date of registration. If students fail the final examinations\, they must re-enroll in the program before they can take the exams again. Students must wait a minimum of another 6 days studying the course materials after they re-enroll before they can start the final examinations. The re-enrollment fee will be $15.00. \nINCREMENTAL ASSESSMENTS:All courses contain incremental assessments designed to properly measure a participant’s mastery of the course content. Remediation to the student will be provided along with the students personal ID for the final examination before the final examination can be taken. \nFINAL EXAMINATION: The final exams are open-book and consist of 15 multiple choice questions for Agency\, Ethics\, Fair Housing Risk Management\, Trust Funds\, and Broker Mgmt & Supervision; and 40 multiple choice questions for both Legal & Marketing – Part 1 & Part 2. Students are allowed one minute per question to complete each final exam and need to score a minimum of 70% to pass. Students may not take more than 15 credit hours of testing within a 24 hour period. Therefore\, to complete all 45 hours of testing\, the student must spend at least 3 different days to complete the exams. Final exams are to be completed online through the Revei web site. Students taking the final exams on-line will be issued a unique username and password. Internet final exams cannot be printed or downloaded; and the exams will automatically time-out at one minute per question. Under no circumstances shall the final exams be furnished directly to the students. \nCOURSE COMPLETION CERTIFICATES/RECORDS:Course completion certificates can be printed online once all course exams are completed. Records of course completion certificates will be maintained indefinitely to allow students to receive a duplicate certificate if needed. \nPROBLEMS/COMPLAINTS: Persons seeking to resolve problems or complaints should contact Revei at the address or telephone number above. \n\n\n\n\n\n			\n				Click Here to Register!
URL:https://vvar.com/event/license-renewal-crash-course-for-sales-broker-licensees-2/
LOCATION:Virtual\, Virtual
END:VEVENT
BEGIN:VEVENT
DTSTART;TZID=America/Los_Angeles:20230322T100000
DTEND;TZID=America/Los_Angeles:20230322T110000
DTSTAMP:20260423T052332
CREATED:20230215T214151Z
LAST-MODIFIED:20230215T214158Z
UID:3942-1679479200-1679482800@vvar.com
SUMMARY:General Membership
DESCRIPTION:General Membership Meeting \nMarch 22\, 2023 \n10am \nIn-Person & Zoom \nSpeaker is Dr. Robert Kleinhenz for an Economic update.
URL:https://vvar.com/event/general-membership/
LOCATION:Hdaor Office\, 11890 Hesperia Road\, Hesperia\, CA\, 92345\, United States
END:VEVENT
BEGIN:VEVENT
DTSTART;TZID=America/Los_Angeles:20230327T100000
DTEND;TZID=America/Los_Angeles:20230327T130000
DTSTAMP:20260423T052332
CREATED:20230112T201312Z
LAST-MODIFIED:20230112T201315Z
UID:3729-1679911200-1679922000@vvar.com
SUMMARY:CA Real Estate Disclosures
DESCRIPTION:CA Real Estate DISCLOSURES\, wait…How many did you say? Over 40!\nYou may think you know the standard disclosures in the sale of single family residence but we bet you don’t know half of them! \n\n\nBy Revei\, DRE Sponsor 2473\n\n\nWhen and where\n\n\n\n\n\n\n\n\n\n\n\n\nDate and time\n\nMon\, March 27\, 2023\, 10:00 AM – 1:00 PM PDT \n\n\n\n\n\n\n\n\nLocation\n\nOnline \n\n\n\n\n\n\n\n\n\nRefund Policy\n\nContact the organizer to request a refund.\nEventbrite’s fee is nonrefundable.\n\n\n\nAbout this event\n\n\n3 hours\nMobile eTicket\n\n\n\n\nStandard Disclosures \nfor the Sale of a 1 to 4-unit\, Owner-Occupied Residential Property \n  \nThis course covers the CAR Sales Disclosure Chart\, and updates the student on current forms\, use and additional CAR dedicated information. \n  \n• Total Review of Sales Disclosure Chart \n• Forms Advisor – here it is! \n• Forms Tutor!!! Now you have NO excuse \n• The difference between Residential & Commercial Disclosures discussed \n• Where to find “it” at CAR.org \n• How does this relate to the RPA-CA! \n  \nInstructor: Joel Carlson\, DREI\, CREC is the owner/broker of MJC Realty in Newport Beach\, Instructor and author for CAR and Designated Instructor of the National Association. \n\n\n\n\n\n			\n				Click Here to Register!
URL:https://vvar.com/event/ca-real-estate-disclosures/
LOCATION:Virtual\, Virtual
END:VEVENT
BEGIN:VEVENT
DTSTART;TZID=America/Los_Angeles:20230330T093000
DTEND;TZID=America/Los_Angeles:20230330T113000
DTSTAMP:20260423T052332
CREATED:20230215T222529Z
LAST-MODIFIED:20230215T222722Z
UID:3951-1680168600-1680175800@vvar.com
SUMMARY:CRMLS New Agent Training
DESCRIPTION:CRMLS New Agent Training \n3/30/2023 \n9:30am \nhttps://crmls.zoom.us/meeting/register/tZMvfuCopjgpG9CP-e4Dqf_Ei1qlAWALqUGU?_x_zm_rtaid=MnYnzYOmTB6HZGhk84Y4UQ.1676057143894.68c96ac9635df62f57b8830be21e122c&_x_zm_rhtaid=862
URL:https://vvar.com/event/crmls-new-agent-training/
LOCATION:Virtual\, Virtual
END:VEVENT
END:VCALENDAR