BEGIN:VCALENDAR
VERSION:2.0
PRODID:-//HDAOR - ECPv6.15.20//NONSGML v1.0//EN
CALSCALE:GREGORIAN
METHOD:PUBLISH
X-ORIGINAL-URL:https://vvar.com
X-WR-CALDESC:Events for HDAOR
REFRESH-INTERVAL;VALUE=DURATION:PT1H
X-Robots-Tag:noindex
X-PUBLISHED-TTL:PT1H
BEGIN:VTIMEZONE
TZID:America/Los_Angeles
BEGIN:DAYLIGHT
TZOFFSETFROM:-0800
TZOFFSETTO:-0700
TZNAME:PDT
DTSTART:20220313T100000
END:DAYLIGHT
BEGIN:STANDARD
TZOFFSETFROM:-0700
TZOFFSETTO:-0800
TZNAME:PST
DTSTART:20221106T090000
END:STANDARD
BEGIN:DAYLIGHT
TZOFFSETFROM:-0800
TZOFFSETTO:-0700
TZNAME:PDT
DTSTART:20230312T100000
END:DAYLIGHT
BEGIN:STANDARD
TZOFFSETFROM:-0700
TZOFFSETTO:-0800
TZNAME:PST
DTSTART:20231105T090000
END:STANDARD
BEGIN:DAYLIGHT
TZOFFSETFROM:-0800
TZOFFSETTO:-0700
TZNAME:PDT
DTSTART:20240310T100000
END:DAYLIGHT
BEGIN:STANDARD
TZOFFSETFROM:-0700
TZOFFSETTO:-0800
TZNAME:PST
DTSTART:20241103T090000
END:STANDARD
END:VTIMEZONE
BEGIN:VEVENT
DTSTART;TZID=America/Los_Angeles:20230410T100000
DTEND;TZID=America/Los_Angeles:20230410T130000
DTSTAMP:20260421T042417
CREATED:20230112T201516Z
LAST-MODIFIED:20230112T201927Z
UID:3733-1681120800-1681131600@vvar.com
SUMMARY:The RPA with 2023 updates
DESCRIPTION:THE NEW California Residential Purchase Agreement (2023 Edition)\nThe residential purchase agreement was brand new in 2021 and it keeps getting updated every week. Here is the latest info you NEED! \n\n\nByRevei\, DRE Sponsor 2473\n\n\nWhen and where\n\n\n\n\n\n\n\n\n\n\n\n\nDate and time\n\nMon\, April 10\, 2023\, 10:00 AM – 1:00 PM PDT \n\n\n\n\n\n\n\n\nLocation\n\nOnline \n\n\n\n\n\n\n\n\n\nRefund Policy\n\nContact the organizer to request a refund.\nEventbrite’s fee is nonrefundable.\n\n\n\nAbout this event\n\n\n3 hours\nMobile eTicket\n\n\n\n\n• The BRAND NEW 16 page form with latest updates \n• What makes a valid\, binding contract?! \n• Step by step through each paragraph – what fun…! \n• Mediate\, Arbitrate or Litigate! Oh MY! \n• How are Deposits handled… NOW! – 10145 of the B & P Code \n• Who can I talk to get more answers? \n  \nInstructor: Joel Carlson\, DREI\, CREC is the owner/broker of MJC Realty in Newport Beach\, Instructor and author for CAR and Designated Instructor of the National Association. \nJoel@JoelCarlson.com \n\n\n\n\n\n			\n				Click Here to Register!
URL:https://vvar.com/event/the-rpa-with-2023-updates-2/
LOCATION:Virtual\, Virtual
END:VEVENT
BEGIN:VEVENT
DTSTART;TZID=America/Los_Angeles:20230414T093000
DTEND;TZID=America/Los_Angeles:20230414T103000
DTSTAMP:20260421T042417
CREATED:20230407T183156Z
LAST-MODIFIED:20230407T183257Z
UID:4213-1681464600-1681468200@vvar.com
SUMMARY:Savvy Card Training
DESCRIPTION:Join us for a virtual Savvy Card Training. \nApril 14th 9:30am \n \n			\n				Click Here to Register!
URL:https://vvar.com/event/savvy-card-training/
LOCATION:Virtual\, Virtual
END:VEVENT
BEGIN:VEVENT
DTSTART;TZID=America/Los_Angeles:20230414T093000
DTEND;TZID=America/Los_Angeles:20230414T123000
DTSTAMP:20260421T042417
CREATED:20230313T205627Z
LAST-MODIFIED:20230313T205637Z
UID:4051-1681464600-1681475400@vvar.com
SUMMARY:License Renewal Crash Course (April 14\, 2023)
DESCRIPTION:This is class is an optional review of course materials and provides the QUICKEST and EASIEST way to renew ANY real estate license. \n\n\nBy Revei\, DRE Sponsor 2473 \n\n\n\n\nWhen and where\n\n\n\n\n\n\n\n\n\n\nDate and time\n\nFri\, April 14\, 2023\,  \n9:30 AM – 12:30 PM PDT \n\n\n\n\n\n\n\n\nRefund Policy\n\nContact the organizer to request a refund.\nEventbrite’s fee is nonrefundable.\n\n\n\nAbout this event\n\n\n3 hours\nMobile eTicket\n\n\n\n\nYour time is worth big $$$. This class will save you time by covering the important info from the 450 pages of reading material we are required to provide. By attending the class you will learn everything you need to know to pass the online finals exams. All students guaranteed to pass the exams through revei.com or your money back! Good for Salesperson and Broker license renewals.\n  \nLegal Fine print: \nREAL ESTATE VIDEO EDUCATIONAL INSTITUTE\, DRE SPONSOR No. 2473 \n1407 N. Batavia St. #220\, Orange\, CA 92867 \nPhone #: 800-582-7979 – Fax #: 714-660-5706 \nGENERAL INFORMATION PAGE FOR OUR CORRESPONDENCE COURSES \nREFUND POLICY:Cancellation – A student may terminate enrollment by mailing such notice by CERTIFIED MAIL. The effective date of cancellation is the date postmarked. Any refunds due will be made by the school within 30 days. Materials – Initial correspondence course materials shall be sent to the student within one (1) working day following receipt of the student’s enrollment or picked up at time of enrollment from association. An enrollee may cancel enrollment within five working days following receipt of course materials and receive a refund of all monies paid\, including registration and material fees\, provided all materials are returned in an unused condition. Shipping costs may be deducted from the refund. \nCOURSE CONTENT / TIME LIMITS: The home study course consists of spending a minimum of 3 hours per 3 credit course and 27 hours of other education reading and studying the course material\, and passing a final exam. The final examinations can be started a minimum of 3 days from the date the student has access to the course materials. The maximum time students have to complete a course is one year from the date of registration. If students fail the final examinations\, they must re-enroll in the program before they can take the exams again. Students must wait a minimum of another 6 days studying the course materials after they re-enroll before they can start the final examinations. The re-enrollment fee will be $15.00. \n\n\n\n\n\n\n\n\n\n\n\n\n\n			\n				Click Here to Register!
URL:https://vvar.com/event/license-renewal-crash-course-april-14-2023/
LOCATION:Virtual\, Virtual
END:VEVENT
BEGIN:VEVENT
DTSTART;TZID=America/Los_Angeles:20230420T090000
DTEND;TZID=America/Los_Angeles:20230420T123000
DTSTAMP:20260421T042417
CREATED:20230419T204121Z
LAST-MODIFIED:20230419T204127Z
UID:4258-1681981200-1681993800@vvar.com
SUMMARY:Fair Housing Expo
DESCRIPTION:Join us for Fair Housing Expo. \nThursday April 20\, 20203 \n9:00am -12:30pm \nHigh Desert Association of REALTORS \n11890 Hesperia Road \nHesperia \, Ca 92345 \nFor more info see our website or call 760-244-8841
URL:https://vvar.com/event/fair-housing-expo/
LOCATION:Hdaor Office\, 11890 Hesperia Road\, Hesperia\, CA\, 92345\, United States
END:VEVENT
BEGIN:VEVENT
DTSTART;TZID=America/Los_Angeles:20230426T100000
DTEND;TZID=America/Los_Angeles:20230426T130000
DTSTAMP:20260421T042417
CREATED:20230313T205953Z
LAST-MODIFIED:20230313T210002Z
UID:4056-1682503200-1682514000@vvar.com
SUMMARY:Probate Listings\, more are coming
DESCRIPTION:Probate Listings – Get ready for MORE\nReal estate probate 101. Everything you need to be knowledgeable in court and get more probate listings \n\n\nBy Revei\, DRE Sponsor 2473 \n\n\n\n\n\n\n\n\n\nWhen and where\n\n\n\n\n\n\n\nDate and time\n\nWed\, April 26\, 2023 \n10:00 AM – 1:00 PM PDT \n\n\n\n\n\n\n\n\nLocation\n\nOnline \n\n\n\n\n\n\n\n\n\nRefund Policy\n\nContact the organizer to request a refund.\nEventbrite’s fee is nonrefundable.\n\n\n\nAbout this event\n\n\n3 hours\nMobile eTicket\n6 reason for Probate – not all are good\n\n\n\n\n\nWhat avoids Probate?\nWorking with an attorney!\nQuestions to ask an attorney\nCommissions\n\n  \n\n\n\n\n\n			\n				Click Here to Register!
URL:https://vvar.com/event/probate-listings-more-are-coming/
LOCATION:Virtual\, Virtual
END:VEVENT
BEGIN:VEVENT
DTSTART;TZID=America/Los_Angeles:20230428T093000
DTEND;TZID=America/Los_Angeles:20230428T123000
DTSTAMP:20260421T042417
CREATED:20230313T210238Z
LAST-MODIFIED:20230313T210321Z
UID:4060-1682674200-1682685000@vvar.com
SUMMARY:License Renewal Crash Course (For Sales & Broker licensees)
DESCRIPTION:License Renewal Crash Course (April 28\, 2023)\nThis is class is an optional review of course materials and provides the QUICKEST and EASIEST way to renew ANY real estate license. \n\n\n\nBy Revei\, DRE Sponsor 2473 \n\n\n\n\n\n\n\n\n\nWhen and where\n\n\n\n\n\n\n\nDate and time\n\nFri\, April 28\, 2023  \n9:30 AM – 12:30 PM PDT \n\n\n\n\n\n\n\n\nLocation\n\nOnline \n\n\n\n\n\n\n\n\n\nRefund Policy\n\nContact the organizer to request a refund.\nEventbrite’s fee is nonrefundable.\n\n\n\nAbout this event\n\n\n3 hours\nMobile eTicket\n\n\n\n\nYour time is worth big $$$. This class will save you time by covering the important info from the 450 pages of reading material we are required to provide. By attending the class you will learn everything you need to know to pass the online finals exams. All students guaranteed to pass the exams through revei.com or your money back! Good for Salesperson and Broker license renewals.\n  \nLegal Fine print: \nREAL ESTATE VIDEO EDUCATIONAL INSTITUTE\, DRE SPONSOR No. 2473 \n1407 N. Batavia St. #220\, Orange\, CA 92867 \nPhone #: 800-582-7979 – Fax #: 714-660-5706 \nGENERAL INFORMATION PAGE FOR OUR CORRESPONDENCE COURSES \nREFUND POLICY:Cancellation – A student may terminate enrollment by mailing such notice by CERTIFIED MAIL. The effective date of cancellation is the date postmarked. Any refunds due will be made by the school within 30 days. Materials – Initial correspondence course materials shall be sent to the student within one (1) working day following receipt of the student’s enrollment or picked up at time of enrollment from association. An enrollee may cancel enrollment within five working days following receipt of course materials and receive a refund of all monies paid\, including registration and material fees\, provided all materials are returned in an unused condition. Shipping costs may be deducted from the refund. \nCOURSE CONTENT / TIME LIMITS: The home study course consists of spending a minimum of 3 hours per 3 credit course and 27 hours of other education reading and studying the course material\, and passing a final exam. The final examinations can be started a minimum of 3 days from the date the student has access to the course materials. The maximum time students have to complete a course is one year from the date of registration. If students fail the final examinations\, they must re-enroll in the program before they can take the exams again. Students must wait a minimum of another 6 days studying the course materials after they re-enroll before they can start the final examinations. The re-enrollment fee will be $15.00. \nINCREMENTAL ASSESSMENTS:All courses contain incremental assessments designed to properly measure a participant’s mastery of the course content. Remediation to the student will be provided along with the students personal ID for the final examination before the final examination can be taken. \nFINAL EXAMINATION: The final exams are open-book and consist of 15 multiple choice questions for Agency\, Ethics\, Fair Housing Risk Management\, Trust Funds\, and Broker Mgmt & Supervision; and 40 multiple choice questions for both Legal & Marketing – Part 1 & Part 2. Students are allowed one minute per question to complete each final exam and need to score a minimum of 70% to pass. Students may not take more than 15 credit hours of testing within a 24 hour period. Therefore\, to complete all 45 hours of testing\, the student must spend at least 3 different days to complete the exams. Final exams are to be completed online through the Revei web site. Students taking the final exams on-line will be issued a unique username and password. Internet final exams cannot be printed or downloaded; and the exams will automatically time-out at one minute per question. Under no circumstances shall the final exams be furnished directly to the students.
URL:https://vvar.com/event/license-renewal-crash-course-for-sales-broker-licensees-3/
LOCATION:Virtual\, Virtual
END:VEVENT
END:VCALENDAR