BEGIN:VCALENDAR
VERSION:2.0
PRODID:-//HDAOR - ECPv6.15.20//NONSGML v1.0//EN
CALSCALE:GREGORIAN
METHOD:PUBLISH
X-ORIGINAL-URL:https://vvar.com
X-WR-CALDESC:Events for HDAOR
REFRESH-INTERVAL;VALUE=DURATION:PT1H
X-Robots-Tag:noindex
X-PUBLISHED-TTL:PT1H
BEGIN:VTIMEZONE
TZID:America/Los_Angeles
BEGIN:DAYLIGHT
TZOFFSETFROM:-0800
TZOFFSETTO:-0700
TZNAME:PDT
DTSTART:20230312T100000
END:DAYLIGHT
BEGIN:STANDARD
TZOFFSETFROM:-0700
TZOFFSETTO:-0800
TZNAME:PST
DTSTART:20231105T090000
END:STANDARD
BEGIN:DAYLIGHT
TZOFFSETFROM:-0800
TZOFFSETTO:-0700
TZNAME:PDT
DTSTART:20240310T100000
END:DAYLIGHT
BEGIN:STANDARD
TZOFFSETFROM:-0700
TZOFFSETTO:-0800
TZNAME:PST
DTSTART:20241103T090000
END:STANDARD
BEGIN:DAYLIGHT
TZOFFSETFROM:-0800
TZOFFSETTO:-0700
TZNAME:PDT
DTSTART:20250309T100000
END:DAYLIGHT
BEGIN:STANDARD
TZOFFSETFROM:-0700
TZOFFSETTO:-0800
TZNAME:PST
DTSTART:20251102T090000
END:STANDARD
END:VTIMEZONE
BEGIN:VEVENT
DTSTART;TZID=America/Los_Angeles:20241002T110000
DTEND;TZID=America/Los_Angeles:20241002T120000
DTSTAMP:20260423T035318
CREATED:20240823T174950Z
LAST-MODIFIED:20240823T174950Z
UID:6961-1727866800-1727870400@vvar.com
SUMMARY:YPN Committee Meeting
DESCRIPTION:
URL:https://vvar.com/event/ypn-committee-meeting-3/
LOCATION:Hdaor Office\, 11890 Hesperia Road\, Hesperia\, CA\, 92345\, United States
END:VEVENT
BEGIN:VEVENT
DTSTART;TZID=America/Los_Angeles:20241008T100000
DTEND;TZID=America/Los_Angeles:20241008T123000
DTSTAMP:20260423T035318
CREATED:20240815T171937Z
LAST-MODIFIED:20240815T172020Z
UID:6851-1728381600-1728390600@vvar.com
SUMMARY:Buyer Representation - Broker Compensation
DESCRIPTION:How to make the buyer representation agreement work for you\, the agent. Why the BRBC may or may not become mandatory in CA. \n\n\n\n\n\n\nDate and time\n\n\n\n  \n\nTuesday\, October 8 · 10am – 12:30pm PDT\n\n\n\n\n\n\n\n\n\n\n\n\n\n\nLocation\n\n\n  \n\nOnline \n\n\n\n\n\n\n\n\n\n\n\nRefund Policy\n\nContact the organizer to request a refund.\nEventbrite’s fee is nonrefundable.\n\n\n\n\n\n\n\nAbout this event\n\n\nEvent lasts 2 hours 30 minutes\n\n\n\n\n\n\nBRBC – Buyer Representation Broker Compensation \n· We go over the 3 page 13 page form… what? \n· How do the National Court cases effect Real Estate in California \n· How do we explain this to Buyers?! \n· What will happen to commissions? \n· What is Clear Cooperation with MLS and NAR? \n· How can I keep up to date with any changes!! \nInstructor: Joel Carlson\, DREI\, CREC is the owner/broker of MJC Realty in Newport Beach\, Instructor and author for CAR and Designated Instructor of the National Association. \nJoel@JoelCarlson.com \n  \n\n\n\n\n\n\n\n\n			\n				Click Here to REGISTER!
URL:https://vvar.com/event/buyer-representation-broker-compensation-5/
LOCATION:Virtual\, Virtual
END:VEVENT
BEGIN:VEVENT
DTSTART;TZID=America/Los_Angeles:20241011T093000
DTEND;TZID=America/Los_Angeles:20241011T120000
DTSTAMP:20260423T035318
CREATED:20240815T172229Z
LAST-MODIFIED:20240815T172311Z
UID:6855-1728639000-1728648000@vvar.com
SUMMARY:License Renewal Crash Course (October 11\, 2024)
DESCRIPTION:This is class is an optional review of course materials and provides the QUICKEST and EASIEST way to renew ANY real estate license in CA. \n\n\n\n\n\n\nDate and time\n\n\n\n  \n\nFriday\, October 11 · 9:30am – 12pm PDT\n\n\n\n\n\n\n\n\n\n\n\n\n\n\nLocation\n\n\n  \n\nOnline \n\n\n\n\n\n\n\n\n\n\n\nRefund Policy\n\nContact the organizer to request a refund.\nEventbrite’s fee is nonrefundable.\n\n\n\n\n\n\n\nAbout this event\n\n\nEvent lasts 2 hours 30 minutes\n\n\n\n\n\n\nYour time is worth big $$$. This class will save you time by covering the important info from the 450 pages of reading material we are required to provide. By attending the class you will learn everything you need to know to pass the online finals exams. All students guaranteed to pass the exams through revei.com or your money back! Good for Salesperson and Broker license renewals.\n  \nLegal Fine print: \nREAL ESTATE VIDEO EDUCATIONAL INSTITUTE\, DRE SPONSOR No. 2473 \n1407 N. Batavia St. #220\, Orange\, CA 92867 \nPhone #: 800-582-7979 – Fax #: 714-660-5706 \nGENERAL INFORMATION PAGE FOR OUR CORRESPONDENCE COURSES \nREFUND POLICY:Cancellation – A student may terminate enrollment by mailing such notice by CERTIFIED MAIL. The effective date of cancellation is the date postmarked. Any refunds due will be made by the school within 30 days. Materials – Initial correspondence course materials shall be sent to the student within one (1) working day following receipt of the student’s enrollment or picked up at time of enrollment from association. An enrollee may cancel enrollment within five working days following receipt of course materials and receive a refund of all monies paid\, including registration and material fees\, provided all materials are returned in an unused condition. Shipping costs may be deducted from the refund. \n\n\n\n\n\n\n\n\n			\n				Click Here to REGISTER!
URL:https://vvar.com/event/license-renewal-crash-course-october-11-2024/
LOCATION:Virtual\, Virtual
END:VEVENT
BEGIN:VEVENT
DTSTART;TZID=America/Los_Angeles:20241015T093000
DTEND;TZID=America/Los_Angeles:20241015T123000
DTSTAMP:20260423T035318
CREATED:20240823T175605Z
LAST-MODIFIED:20240823T175605Z
UID:6965-1728984600-1728995400@vvar.com
SUMMARY:Code of Ethics
DESCRIPTION:Do you need to complete your Code of Ethics by December 31\, 2024? This class is for you. Join us for the National Ethics Day Replay virtually\, this will satisfy your required Code of Ethics. There is no test at the end of the Class so your camera must be on for the duration of the class. \nDate: October 15\, 2024 \nTime: 9:30am-12:30pm
URL:https://vvar.com/event/code-of-ethics/
LOCATION:Virtual\, Virtual
END:VEVENT
BEGIN:VEVENT
DTSTART;TZID=America/Los_Angeles:20241017T093000
DTEND;TZID=America/Los_Angeles:20241017T103000
DTSTAMP:20260423T035318
CREATED:20241004T173355Z
LAST-MODIFIED:20241004T173357Z
UID:7263-1729157400-1729161000@vvar.com
SUMMARY:ZipForms (HDAOR) Unlock Your Potential with Digital Signatures inside Lone Wolf Transactions
DESCRIPTION:Date & Time\nOct 17\, 2024 09:30 AM\n\n\nDescription\nzipForm can get that signed NOW.\n\n\nHave you tried using The New and Improved Authentisign? It’s a free member benefit and gives you access to unlimited digital signatures for transaction documents within Lone Wolf Transactions (zipForm Edition). What about DocuSign®? It’s a powerful online subscription signing solution that integrates with Lone Wolf Transactions (zipForm Edition). In this session we will cover: • Sharing forms like SPQ & TDS • Signatures with Authentisign and DocuSign® • Outside forms • Q & A – bring your questions! If you cannot attend\, sign up anyway and we will send you a recording. Register today!\n\n\n			\n				Click Here to Register!
URL:https://vvar.com/event/zipforms-hdaor-unlock-your-potential-with-digital-signatures-inside-lone-wolf-transactions/
LOCATION:Virtual\, Virtual
END:VEVENT
BEGIN:VEVENT
DTSTART;TZID=America/Los_Angeles:20241018T160000
DTEND;TZID=America/Los_Angeles:20241018T190000
DTSTAMP:20260423T035318
CREATED:20240823T180118Z
LAST-MODIFIED:20240828T205028Z
UID:6967-1729267200-1729278000@vvar.com
SUMMARY:Trunk or Treat
DESCRIPTION:
URL:https://vvar.com/event/truck-or-treat/
LOCATION:Hdaor Office\, 11890 Hesperia Road\, Hesperia\, CA\, 92345\, United States
END:VEVENT
BEGIN:VEVENT
DTSTART;TZID=America/Los_Angeles:20241022T100000
DTEND;TZID=America/Los_Angeles:20241022T130000
DTSTAMP:20260423T035318
CREATED:20240815T172518Z
LAST-MODIFIED:20240815T172604Z
UID:6859-1729591200-1729602000@vvar.com
SUMMARY:CA Real Estate DISCLOSURES\, wait...How many did you say? Over 40!
DESCRIPTION:You may think you know the standard disclosures in the sale of single family residence but we bet you don’t know half of them! \n\n\n\n\n\n\nDate and time\n\n\n\n  \n\nTuesday\, October 22 · 10am – 1pm PDT\n\n\n\n\n\n\n\n\n\n\n\n\n\n\nLocation\n\n\n  \n\nOnline \n\n\n\n\n\n\n\n\n\n\n\nRefund Policy\n\nContact the organizer to request a refund.\nEventbrite’s fee is nonrefundable.\n\n\n\n\n\n\n\nAbout this event\n\n\nEvent lasts 3 hours\n\n\n\n\n\n\nStandard Disclosures \nfor the Sale of a 1 to 4-unit\, Owner-Occupied Residential Property \n  \nThis course covers the CAR Sales Disclosure Chart\, and updates the student on current forms\, use and additional CAR dedicated information. \n  \n• Total Review of Sales Disclosure Chart \n• Forms Advisor – here it is! \n• Forms Tutor!!! Now you have NO excuse \n• The difference between Residential & Commercial Disclosures discussed \n• Where to find “it” at CAR.org \n• How does this relate to the RPA-CA! \n  \nInstructor: Joel Carlson\, DREI\, CREC is the owner/broker of MJC Realty in Newport Beach\, Instructor and author for CAR and Designated Instructor of the National Association. \n\n\n\n\n\n\n\n\n			\n				Click Here to REGISTER!
URL:https://vvar.com/event/ca-real-estate-disclosures-wait-how-many-did-you-say-over-40-4/
LOCATION:Virtual\, Virtual
END:VEVENT
BEGIN:VEVENT
DTSTART;TZID=America/Los_Angeles:20241023T100000
DTEND;TZID=America/Los_Angeles:20241023T110000
DTSTAMP:20260423T035318
CREATED:20240823T180254Z
LAST-MODIFIED:20240823T180254Z
UID:6970-1729677600-1729681200@vvar.com
SUMMARY:General Membership Meetin
DESCRIPTION:
URL:https://vvar.com/event/general-membership-meetin/
LOCATION:Hdaor Office\, 11890 Hesperia Road\, Hesperia\, CA\, 92345\, United States
END:VEVENT
BEGIN:VEVENT
DTSTART;TZID=America/Los_Angeles:20241025T093000
DTEND;TZID=America/Los_Angeles:20241025T120000
DTSTAMP:20260423T035318
CREATED:20240815T172746Z
LAST-MODIFIED:20240815T172837Z
UID:6863-1729848600-1729857600@vvar.com
SUMMARY:License Renewal Crash Course (October 25\, 2024)
DESCRIPTION:This is class is an optional review of course materials and provides the QUICKEST and EASIEST way to renew ANY real estate license in CA. \n\n\n\n\n\n\nDate and time\n\n\n\n  \n\nFriday\, October 25 · 9:30am – 12pm PDT\n\n\n\n\n\n\n\n\n\n\n\n\n\n\nLocation\n\n\n  \n\nOnline \n\n\n\n\n\n\n\n\n\n\n\nRefund Policy\n\nContact the organizer to request a refund.\nEventbrite’s fee is nonrefundable.\n\n\n\n\n\n\n\nAbout this event\n\n\nEvent lasts 2 hours 30 minutes\n\n\n\n\n\n\nYour time is worth big $$$. This class will save you time by covering the important info from the 450 pages of reading material we are required to provide. By attending the class you will learn everything you need to know to pass the online finals exams. All students guaranteed to pass the exams through revei.com or your money back! Good for Salesperson and Broker license renewals.\n  \nLegal Fine print: \nREAL ESTATE VIDEO EDUCATIONAL INSTITUTE\, DRE SPONSOR No. 2473 \n1407 N. Batavia St. #220\, Orange\, CA 92867 \nPhone #: 800-582-7979 – Fax #: 714-660-5706 \nGENERAL INFORMATION PAGE FOR OUR CORRESPONDENCE COURSES \nREFUND POLICY:Cancellation – A student may terminate enrollment by mailing such notice by CERTIFIED MAIL. The effective date of cancellation is the date postmarked. Any refunds due will be made by the school within 30 days. Materials – Initial correspondence course materials shall be sent to the student within one (1) working day following receipt of the student’s enrollment or picked up at time of enrollment from association. An enrollee may cancel enrollment within five working days following receipt of course materials and receive a refund of all monies paid\, including registration and material fees\, provided all materials are returned in an unused condition. Shipping costs may be deducted from the refund. \nCOURSE CONTENT / TIME LIMITS: The home study course consists of spending a minimum of 3 hours per 3 credit course and 27 hours of other education reading and studying the course material\, and passing a final exam. The final examinations can be started a minimum of 3 days from the date the student has access to the course materials. The maximum time students have to complete a course is one year from the date of registration. If students fail the final examinations\, they must re-enroll in the program before they can take the exams again. Students must wait a minimum of another 6 days studying the course materials after they re-enroll before they can start the final examinations. The re-enrollment fee will be $15.00. \n\n\n\n\n\n\n\n\n			\n				Click Here to REGISTER!
URL:https://vvar.com/event/license-renewal-crash-course-october-25-2024/
LOCATION:Virtual\, Virtual
END:VEVENT
BEGIN:VEVENT
DTSTART;TZID=America/Los_Angeles:20241029T103000
DTEND;TZID=America/Los_Angeles:20241029T120000
DTSTAMP:20260423T035318
CREATED:20240828T210102Z
LAST-MODIFIED:20240828T210105Z
UID:7008-1730197800-1730203200@vvar.com
SUMMARY:Lunch and Learn "Hidden Listings"
DESCRIPTION:Click Here to REGISTER!
URL:https://vvar.com/event/lunch-and-learn-hidden-listings/
LOCATION:Hdaor Office\, 11890 Hesperia Road\, Hesperia\, CA\, 92345\, United States
END:VEVENT
BEGIN:VEVENT
DTSTART;TZID=America/Los_Angeles:20241030T093000
DTEND;TZID=America/Los_Angeles:20241030T123000
DTSTAMP:20260423T035318
CREATED:20240823T180404Z
LAST-MODIFIED:20240823T180625Z
UID:6972-1730280600-1730291400@vvar.com
SUMMARY:Code of Ethics Replay
DESCRIPTION:Do you need to complete your Code of Ethics by December 31\, 2024? This class is for you. Join us for the National Ethics Day Replay virtually\, this will satisfy your required Code of Ethics. There is no test at the end of the Class so your camera must be on for the duration of the class. \n  \nDate: October 30\, 2024 \nTime: 9:30am-12:30pm
URL:https://vvar.com/event/code-of-ethics-replay/
LOCATION:Virtual\, Virtual
END:VEVENT
END:VCALENDAR